0.00222222000000
0.00000000000000
0.00000000000000
-0.00222222000000
-124.99888889000000
49.99888889000000
